BEGIN:VCALENDAR
VERSION:2.0
PRODID:icalendar-ruby
CALSCALE:GREGORIAN
METHOD:PUBLISH
BEGIN:VTIMEZONE
TZID:Australia/Brisbane
BEGIN:STANDARD
DTSTART:19920301T020000
TZOFFSETFROM:+1100
TZOFFSETTO:+1000
TZNAME:AEST
END:STANDARD
END:VTIMEZONE
BEGIN:VEVENT
DTSTAMP:20260425T202414Z
UID:inspection_3009312
DTSTART;TZID=Australia/Brisbane:20260426T093000
DTEND;TZID=Australia/Brisbane:20260426T100000
CLASS:PUBLIC
CREATED:20260422T133503
DESCRIPTION: 
LAST-MODIFIED:20260422T133503
LOCATION:5 / 25 McKinley Street\, NORTH WARD QLD 4810\, Australia
SUMMARY:5 / 25 McKinley Street\,  Inspection
URL;VALUE=URI:http://www.nwrealty.com.au/
END:VEVENT
END:VCALENDAR
